Workbook

Sheet Sumário
A1: DÉFICIT HABITACIONAL
A2: 1.Domicílios Déficit
A3: 1.1 Domicílios Precários
A4: 1.1.1 Domicílios Rústicos
A5: 1.1.2 Domicílios Improvisados
A6: 1.2 Coabitação
A7: 1.2.1 Cômodos
A8: 1.2.2 Domicílios com famílias conviventes
A9: 1.3 Ônus Excessivo
A10: 1.3 Ônus excessivo com aluguel urbano
A11: 1.4 Total de Domicílios
A12: 1.4.1 Total de Domicílios

Sheet Déficit
A1: DH | B1: Ano | C1: regiao | D1: Urbana | E1: Rural | F1: Total | G1: Porcentagem_Urbana | H1: Porcentagem_rural | I1: % do total de domicílios Permanentes e Improvisados | J1: % do total do déficit
A2: Déficit | B2: 2016 | C2: Norte | D2: 514895.05 | E2: 172143.15 | F2: 687038.2 | G2: 0.74944166 | H2: 0.25055834 | I2: =F2/'Total de domicílios'!E2 -> 0.13788929 | J2: =F2/$F$55 -> 0.11910208
A3: Déficit | B3: 2016 | C3: Rondônia | D3: 59021.544 | E3: 16087.795 | F3: 75109.339 | G3: 0.78580832 | H3: 0.21419168 | I3: =F3/'Total de domicílios'!E3 -> 0.13326965 | J3: =F3/$F$55 -> 0.013020642
A4: Déficit | B4: 2016 | C4: Acre | D4: 18910.387 | E4: 5255.6955 | F4: 24166.083 | G4: 0.78251769 | H4: 0.21748231 | I4: =F4/'Total de domicílios'!E4 -> 0.10410921 | J4: =F4/$F$55 -> 0.0041893313
A5: Déficit | B5: 2016 | C5: Amazonas | D5: 143274.22 | E5: 22262.056 | F5: 165536.28 | G5: 0.86551555 | H5: 0.13448445 | I5: =F5/'Total de domicílios'!E5 -> 0.16145335 | J5: =F5/$F$55 -> 0.028696679
A6: Déficit | B6: 2016 | C6: Região Metropolitana de Manaus (AM) | D6: 105317.59 | E6: 5831.5221 | F6: 111149.11 | G6: 0.94753424 | H6: 0.052465755 | I6: =F6/'Total de domicílios'!E6 -> 0.16185273 | J6: =F6/$F$55 -> 0.019268346
A7: Déficit | B7: 2016 | C7: Roraima | D7: 16447.364 | E7: 3273.2399 | F7: 19720.604 | G7: 0.83401929 | H7: 0.16598071 | I7: =F7/'Total de domicílios'!E7 -> 0.14700064 | J7: =F7/$F$55 -> 0.0034186816
A8: Déficit | B8: 2016 | C8: Pará | D8: 217160.68 | E8: 110271.84 | F8: 327432.52 | G8: 0.66322269 | H8: 0.33677731 | I8: =F8/'Total de domicílios'!E8 -> 0.13999632 | J8: =F8/$F$55 -> 0.056762336
A9: Déficit | B9: 2016 | C9: Região Metropolitana de Belém (PA) | D9: 63320.684 | E9: 373.11952 | F9: 63693.803 | G9: 0.99414198 | H9: 0.0058580191 | I9: =F9/'Total de domicílios'!E9 -> 0.098960788 | J9: =F9/$F$55 -> 0.011041692
A10: Déficit | B10: 2016 | C10: Amapá | D10: 26711.091 | E10: 3443.205 | F10: 30154.296 | G10: 0.88581379 | H10: 0.11418621 | I10: =F10/'Total de domicílios'!E10 -> 0.14380275 | J10: =F10/$F$55 -> 0.005227423
A11: Déficit | B11: 2016 | C11: Região Metropolitana de Macapá (AP) | D11: 21428.763 | E11: 1220.0777 | F11: 22648.841 | G11: 0.94613068 | H11: 0.053869322 | I11: =F11/'Total de domicílios'!E11 -> 0.14552757 | J11: =F11/$F$55 -> 0.0039263086
A12: Déficit | B12: 2016 | C12: Tocantins | D12: 33369.762 | E12: 11549.313 | F12: 44919.075 | G12: 0.74288623 | H12: 0.25711377 | I12: =F12/'Total de domicílios'!E12 -> 0.093811224 | J12: =F12/$F$55 -> 0.0077869834
A13: Déficit | B13: 2016 | C13: Nordeste | D13: 1271592.6 | E13: 466897.06 | F13: 1738489.7 | G13: 0.73143524 | H13: 0.26856476 | I13: =F13/'Total de domicílios'!E13 -> 0.097363892 | J13: =F13/$F$55 -> 0.30137732
... A55: Déficit | B55: 2016 | C55: Brasil | D55: 4953827.2 | E55: 814654.98 | F55: 5768482.2 | G55: 0.85877481 | H55: 0.14122519 | I55: =F55/'Total de domicílios'!E55 -> 0.085143795 | J55: =F55/$F$55 -> 1
A56: Déficit | B56: 2017 | C56: Norte | D56: 526145.12 | E56: 173890.44 | F56: 700035.56 | G56: 0.75159771 | H56: 0.24840229 | I56: =F56/'Total de domicílios'!E56 -> 0.13578036 | J56: =F56/$F$109 -> 0.11535437
A57: Déficit | B57: 2017 | C57: Rondônia | D57: 56423.33 | E57: 20435.023 | F57: 76858.353 | G57: 0.73412099 | H57: 0.26587901 | I57: =F57/'Total de domicílios'!E57 -> 0.13223935 | J57: =F57/$F$109 -> 0.012664995
A58: Déficit | B58: 2017 | C58: Acre | D58: 21475.852 | E58: 4390.0085 | F58: 25865.86 | G58: 0.83027788 | H58: 0.16972212 | I58: =F58/'Total de domicílios'!E58 -> 0.10635904 | J58: =F58/$F$109 -> 0.004262269
A59: Déficit | B59: 2017 | C59: Amazonas | D59: 149540.68 | E59: 26747.726 | F59: 176288.4 | G59: 0.84827291 | H59: 0.15172709 | I59: =F59/'Total de domicílios'!E59 -> 0.16258127 | J59: =F59/$F$109 -> 0.029049434
A60: Déficit | B60: 2017 | C60: Região Metropolitana de Manaus (AM) | D60: 98243.627 | E60: 4902.1763 | F60: 103145.8 | G60: 0.95247333 | H60: 0.047526667 | I60: =F60/'Total de domicílios'!E60 -> 0.14300043 | J60: =F60/$F$109 -> 0.016996735
A61: Déficit | B61: 2017 | C61: Roraima | D61: 17361.948 | E61: 5188.2327 | F61: 22550.181 | G61: 0.76992501 | H61: 0.23007499 | I61: =F61/'Total de domicílios'!E61 -> 0.15841219 | J61: =F61/$F$109 -> 0.0037158995
A62: Déficit | B62: 2017 | C62: Pará | D62: 219006.63 | E62: 102627.46 | F62: 321634.09 | G62: 0.68091857 | H62: 0.31908143 | I62: =F62/'Total de domicílios'!E62 -> 0.1344832 | J62: =F62/$F$109 -> 0.053000017
A63: Déficit | B63: 2017 | C63: Região Metropolitana de Belém (PA) | D63: 66554.696 | E63: 1283.7735 | F63: 67838.469 | G63: 0.98107602 | H63: 0.018923975 | I63: =F63/'Total de domicílios'!E63 -> 0.10307845 | J63: =F63/$F$109 -> 0.011178666
A64: Déficit | B64: 2017 | C64: Amapá | D64: 27522.567 | E64: 2731.9675 | F64: 30254.535 | G64: 0.90970056 | H64: 0.090299438 | I64: =F64/'Total de domicílios'!E64 -> 0.13886155 | J64: =F64/$F$109 -> 0.0049854505
A65: Déficit | B65: 2017 | C65: Região Metropolitana de Macapá (AP) | D65: 20677.791 | E65: 795.36254 | F65: 21473.154 | G65: 0.96296014 | H65: 0.037039857 | I65: =F65/'Total de domicílios'!E65 -> 0.13210336 | J65: =F65/$F$109 -> 0.0035384231
A66: Déficit | B66: 2017 | C66: Tocantins | D66: 34814.126 | E66: 11770.016 | F66: 46584.142 | G66: 0.74733857 | H66: 0.25266143 | I66: =F66/'Total de domicílios'!E66 -> 0.094094144 | J66: =F66/$F$109 -> 0.0076763017
A67: Déficit | B67: 2017 | C67: Nordeste | D67: 1346002 | E67: 457142.47 | F67: 1803144.5 | G67: 0.74647486 | H67: 0.25352514 | I67: =F67/'Total de domicílios'!E67 -> 0.099576144 | J67: =F67/$F$109 -> 0.29712861
... A109: Déficit | B109: 2017 | C109: Brasil | D109: 5250251.7 | E109: 818314.1 | F109: 6068565.8 | G109: 0.86515527 | H109: 0.13484473 | I109: =F109/'Total de domicílios'!E109 -> 0.088325804 | J109: =F109/$F$109 -> 1
A110: Déficit | B110: 2018 | C110: Norte | D110: 521199.96 | E110: 167469.71 | F110: 688669.67 | G110: 0.75682142 | H110: 0.24317858 | I110: =F110/'Total de domicílios'!E110 -> 0.12951451 | J110: =F110/$F$163 -> 0.1152929
A111: Déficit | B111: 2018 | C111: Rondônia | D111: 52464.645 | E111: 13325.317 | F111: 65789.962 | G111: 0.79745669 | H111: 0.20254331 | I111: =F111/'Total de domicílios'!E111 -> 0.11129318 | J111: =F111/$F$163 -> 0.011014157
A112: Déficit | B112: 2018 | C112: Acre | D112: 19255.782 | E112: 4346.3968 | F112: 23602.179 | G112: 0.81584765 | H112: 0.18415235 | I112: =F112/'Total de domicílios'!E112 -> 0.090807099 | J112: =F112/$F$163 -> 0.0039513338
A113: Déficit | B113: 2018 | C113: Amazonas | D113: 139028.8 | E113: 29491.052 | F113: 168519.86 | G113: 0.82499954 | H113: 0.17500046 | I113: =F113/'Total de domicílios'!E113 -> 0.15229178 | J113: =F113/$F$163 -> 0.028212573
A114: Déficit | B114: 2018 | C114: Região Metropolitana de Manaus (AM) | D114: 93875.792 | E114: 7790.49 | F114: 101666.28 | G114: 0.92337194 | H114: 0.07662806 | I114: =F114/'Total de domicílios'!E114 -> 0.13323152 | J114: =F114/$F$163 -> 0.017020353
A115: Déficit | B115: 2018 | C115: Roraima | D115: 16575.06 | E115: 3559.1578 | F115: 20134.217 | G115: 0.8232284 | H115: 0.1767716 | I115: =F115/'Total de domicílios'!E115 -> 0.13090367 | J115: =F115/$F$163 -> 0.0033707487
A116: Déficit | B116: 2018 | C116: Pará | D116: 219846.79 | E116: 99943.36 | F116: 319790.15 | G116: 0.68747205 | H116: 0.31252795 | I116: =F116/'Total de domicílios'!E116 -> 0.12942715 | J116: =F116/$F$163 -> 0.05353733
A117: Déficit | B117: 2018 | C117: Região Metropolitana de Belém (PA) | D117: 73260.937 | E117: 1986.1681 | F117: 75247.105 | G117: 0.97360472 | H117: 0.026395276 | I117: =F117/'Total de domicílios'!E117 -> 0.11015447 | J117: =F117/$F$163 -> 0.012597415
A118: Déficit | B118: 2018 | C118: Amapá | D118: 34449.502 | E118: 3113.3487 | F118: 37562.85 | G118: 0.91711628 | H118: 0.082883717 | I118: =F118/'Total de domicílios'!E118 -> 0.17009352 | J118: =F118/$F$163 -> 0.0062885449
A119: Déficit | B119: 2018 | C119: Região Metropolitana de Macapá (AP) | D119: 25853.079 | E119: 445.79215 | F119: 26298.871 | G119: 0.983049 | H119: 0.016950999 | I119: =F119/'Total de domicílios'!E119 -> 0.15926396 | J119: =F119/$F$163 -> 0.0044027977
A120: Déficit | B120: 2018 | C120: Tocantins | D120: 39579.374 | E120: 13691.08 | F120: 53270.454 | G120: 0.74298923 | H120: 0.25701077 | I120: =F120/'Total de domicílios'!E120 -> 0.10359003 | J120: =F120/$F$163 -> 0.0089182168
A121: Déficit | B121: 2018 | C121: Nordeste | D121: 1341269.2 | E121: 477211.17 | F121: 1818480.4 | G121: 0.73757695 | H121: 0.26242305 | I121: =F121/'Total de domicílios'!E121 -> 0.098896814 | J121: =F121/$F$163 -> 0.30443897
... A163: Déficit | B163: 2018 | C163: Brasil | D163: 5156718.4 | E163: 816499.78 | F163: 5973218.2 | G163: 0.86330655 | H163: 0.13669345 | I163: =F163/'Total de domicílios'!E163 -> 0.085171458 | J163: =F163/$F$163 -> 1
A164: Déficit | B164: 2019 | C164: Norte | D164: 533198.06 | E164: 197516.61 | F164: 730714.67 | G164: 0.72969393 | H164: 0.27030607 | I164: =F164/'Total de domicílios'!E164 -> 0.1341689 | J164: =F164/$F$217 -> 0.12250051
A165: Déficit | B165: 2019 | C165: Rondônia | D165: 49233.93 | E165: 11614.123 | F165: 60848.053 | G165: 0.8091291 | H165: 0.1908709 | I165: =F165/'Total de domicílios'!E165 -> 0.10018152 | J165: =F165/$F$217 -> 0.010200859
A166: Déficit | B166: 2019 | C166: Acre | D166: 19346.071 | E166: 4637.2454 | F166: 23983.317 | G166: 0.80664704 | H166: 0.19335296 | I166: =F166/'Total de domicílios'!E166 -> 0.09042827 | J166: =F166/$F$217 -> 0.0040206782
A167: Déficit | B167: 2019 | C167: Amazonas | D167: 135952.18 | E167: 35101.24 | F167: 171053.42 | G167: 0.7947937 | H167: 0.2052063 | I167: =F167/'Total de domicílios'!E167 -> 0.15384951 | J167: =F167/$F$217 -> 0.028676216
A168: Déficit | B168: 2019 | C168: Região Metropolitana de Manaus (AM) | D168: 93388.887 | E168: 9236.8648 | F168: 102625.75 | G168: 0.90999467 | H168: 0.090005331 | I168: =F168/'Total de domicílios'!E168 -> 0.13601508 | J168: =F168/$F$217 -> 0.017204673
A169: Déficit | B169: 2019 | C169: Roraima | D169: 19719.096 | E169: 4623.3364 | F169: 24342.433 | G169: 0.8100709 | H169: 0.1899291 | I169: =F169/'Total de domicílios'!E169 -> 0.15852691 | J169: =F169/$F$217 -> 0.0040808821
A170: Déficit | B170: 2019 | C170: Pará | D170: 234298.18 | E170: 125401.96 | F170: 359700.14 | G170: 0.65137084 | H170: 0.34862916 | I170: =F170/'Total de domicílios'!E170 -> 0.14069624 | J170: =F170/$F$217 -> 0.060301856
A171: Déficit | B171: 2019 | C171: Região Metropolitana de Belém (PA) | D171: 80405.673 | E171: 1254.2887 | F171: 81659.962 | G171: 0.9846401 | H171: 0.015359898 | I171: =F171/'Total de domicílios'!E171 -> 0.11664533 | J171: =F171/$F$217 -> 0.013689867
A172: Déficit | B172: 2019 | C172: Amapá | D172: 38384.928 | E172: 4350.0066 | F172: 42734.935 | G172: 0.89820959 | H172: 0.10179041 | I172: =F172/'Total de domicílios'!E172 -> 0.18493831 | J172: =F172/$F$217 -> 0.0071642893
A173: Déficit | B173: 2019 | C173: Região Metropolitana de Macapá (AP) | D173: 30468.025 | E173: 1500.3963 | F173: 31968.422 | G173: 0.9530663 | H173: 0.0469337 | I173: =F173/'Total de domicílios'!E173 -> 0.1902962 | J173: =F173/$F$217 -> 0.0053593394
A174: Déficit | B174: 2019 | C174: Tocantins | D174: 36263.667 | E174: 11788.697 | F174: 48052.363 | G174: 0.75466978 | H174: 0.24533022 | I174: =F174/'Total de domicílios'!E174 -> 0.09230079 | J174: =F174/$F$217 -> 0.0080557285
A175: Déficit | B175: 2019 | C175: Nordeste | D175: 1339903.2 | E175: 466759.62 | F175: 1806662.9 | G175: 0.74164542 | H175: 0.25835458 | I175: =F175/'Total de domicílios'!E175 -> 0.0958642 | J175: =F175/$F$217 -> 0.30287762
... A217: Déficit | B217: 2019 | C217: Brasil | D217: 5125013.6 | E217: 839979.33 | F217: 5964992.9 | G217: 0.85918184 | H217: 0.14081816 | I217: =F217/'Total de domicílios'!E217 -> 0.083506471 | J217: =F217/$F$217 -> 1

Sheet Rústicos
A1: Ano | B1: DH | C1: Região | D1: Contagem | E1: % do total da componente
A2: 2016 | B2: Domicílios Rústicos | C2: Norte | D2: 165610.26 | E2: =D2/$D$54 -> 0.21850004
A3: 2016 | B3: Domicílios Rústicos | C3: Rondônia | D3: 33162.335 | E3: =D3/$D$54 -> 0.043753157
A4: 2016 | B4: Domicílios Rústicos | C4: Acre | D4: 5072.4961 | E4: =D4/$D$54 -> 0.0066924636
A5: 2016 | B5: Domicílios Rústicos | C5: Amazonas | D5: 20414.094 | E5: =D5/$D$54 -> 0.0269336
A6: 2016 | B6: Domicílios Rústicos | C6: Região Metropolitana de Manaus (AM) | D6: 11650.627 | E6: =D6/$D$54 -> 0.015371405
A7: 2016 | B7: Domicílios Rústicos | C7: Roraima | D7: 3845.2437 | E7: =D7/$D$54 -> 0.0050732722
A8: 2016 | B8: Domicílios Rústicos | C8: Pará | D8: 88675.469 | E8: =D8/$D$54 -> 0.11699513
A9: 2016 | B9: Domicílios Rústicos | C9: Região Metropolitana de Belém (PA) | D9: 6821.1313 | E9: =D9/$D$54 -> 0.0089995481
A10: 2016 | B10: Domicílios Rústicos | C10: Amapá | D10: 2528.2086 | E10: =D10/$D$54 -> 0.0033356247
A11: 2016 | B11: Domicílios Rústicos | C11: Região Metropolitana de Macapá (AP) | D11: 1872.636 | E11: =D11/$D$54 -> 0.0024706867
A12: 2016 | B12: Domicílios Rústicos | C12: Tocantins | D12: 11912.41 | E12: =D12/$D$54 -> 0.015716792
A13: 2016 | B13: Domicílios Rústicos | C13: Nordeste | D13: 356824.39 | E13: =D13/$D$54 -> 0.47078088
... A54: 2016 | B54: Domicílios Rústicos | C54: Brasil | D54: 757941.54 | E54: =D54/$D$54 -> 1
A55: 2017 | B55: Domicílios Rústicos | C55: Norte | D55: 172563.09 | E55: =D55/$D$108 -> 0.21376776
A56: 2017 | B56: Domicílios Rústicos | C56: Rondônia | D56: 32115.137 | E56: =D56/$D$108 -> 0.039783601
A57: 2017 | B57: Domicílios Rústicos | C57: Acre | D57: 5009.151 | E57: =D57/$D$108 -> 0.006205238
A58: 2017 | B58: Domicílios Rústicos | C58: Amazonas | D58: 36928.879 | E58: =D58/$D$108 -> 0.04574677
A59: 2017 | B59: Domicílios Rústicos | C59: Região Metropolitana de Manaus (AM) | D59: 13034.69 | E59: =D59/$D$108 -> 0.016147118
A60: 2017 | B60: Domicílios Rústicos | C60: Roraima | D60: 5723.7163 | E60: =D60/$D$108 -> 0.0070904274
A61: 2017 | B61: Domicílios Rústicos | C61: Pará | D61: 79157.769 | E61: =D61/$D$108 -> 0.09805909
A62: 2017 | B62: Domicílios Rústicos | C62: Região Metropolitana de Belém (PA) | D62: 7373.2916 | E62: =D62/$D$108 -> 0.0091338889
A63: 2017 | B63: Domicílios Rústicos | C63: Amapá | D63: 3030.9811 | E63: =D63/$D$108 -> 0.0037547199
A64: 2017 | B64: Domicílios Rústicos | C64: Região Metropolitana de Macapá (AP) | D64: 2517.1264 | E64: =D64/$D$108 -> 0.0031181668
A65: 2017 | B65: Domicílios Rústicos | C65: Tocantins | D65: 10597.453 | E65: =D65/$D$108 -> 0.013127917
A66: 2017 | B66: Domicílios Rústicos | C66: Nordeste | D66: 329580.52 | E66: =D66/$D$108 -> 0.40827787
... A108: 2017 | B108: Domicílios Rústicos | C108: Brasil | D108: 807245.6 | E108: =D108/$D$108 -> 1
A109: 2018 | B109: Domicílios Rústicos | C109: Norte | D109: 142042.72 | E109: =D109/$D$161 -> 0.19781799
A110: 2018 | B110: Domicílios Rústicos | C110: Rondônia | D110: 15947.091 | E110: =D110/$D$161 -> 0.022208962
A111: 2018 | B111: Domicílios Rústicos | C111: Acre | D111: 3504.4823 | E111: =D111/$D$161 -> 0.0048805714
A112: 2018 | B112: Domicílios Rústicos | C112: Amazonas | D112: 16765.73 | E112: =D112/$D$161 -> 0.023349052
A113: 2018 | B113: Domicílios Rústicos | C113: Região Metropolitana de Manaus (AM) | D113: 6888.0064 | E113: =D113/$D$161 -> 0.0095926884
A114: 2018 | B114: Domicílios Rústicos | C114: Roraima | D114: 2235.9084 | E114: =D114/$D$161 -> 0.0031138723
A115: 2018 | B115: Domicílios Rústicos | C115: Pará | D115: 81216.984 | E115: =D115/$D$161 -> 0.11310809
A116: 2018 | B116: Domicílios Rústicos | C116: Região Metropolitana de Belém (PA) | D116: 2837.9241 | E116: =D116/$D$161 -> 0.0039522788
A117: 2018 | B117: Domicílios Rústicos | C117: Amapá | D117: 5696.8914 | E117: =D117/$D$161 -> 0.0079338637
A118: 2018 | B118: Domicílios Rústicos | C118: Região Metropolitana de Macapá (AP) | D118: 4163.4879 | E118: =D118/$D$161 -> 0.0057983457
A119: 2018 | B119: Domicílios Rústicos | C119: Tocantins | D119: 16675.635 | E119: =D119/$D$161 -> 0.02322358
A120: 2018 | B120: Domicílios Rústicos | C120: Nordeste | D120: 308657.77 | E120: =D120/$D$161 -> 0.42985701
... A161: 2018 | B161: Domicílios Rústicos | C161: Brasil | D161: 718047.55 | E161: =D161/$D$161 -> 1
A162: 2019 | B162: Domicílios Rústicos | C162: Norte | D162: 150042.09 | E162: =D162/$D$215 -> 0.21533427
A163: 2019 | B163: Domicílios Rústicos | C163: Rondônia | D163: 7837.2372 | E163: =D163/$D$215 -> 0.011247682
A164: 2019 | B164: Domicílios Rústicos | C164: Acre | D164: 3996.452 | E164: =D164/$D$215 -> 0.0057355444
A165: 2019 | B165: Domicílios Rústicos | C165: Amazonas | D165: 26259.272 | E165: =D165/$D$215 -> 0.037686232
A166: 2019 | B166: Domicílios Rústicos | C166: Região Metropolitana de Manaus (AM) | D166: 10717.254 | E166: =D166/$D$215 -> 0.015380964
A167: 2019 | B167: Domicílios Rústicos | C167: Roraima | D167: 3252.3759 | E167: =D167/$D$215 -> 0.0046676768
A168: 2019 | B168: Domicílios Rústicos | C168: Pará | D168: 94010.007 | E168: =D168/$D$215 -> 0.13491931
A169: 2019 | B169: Domicílios Rústicos | C169: Região Metropolitana de Belém (PA) | D169: 7451.3887 | E169: =D169/$D$215 -> 0.010693928
A170: 2019 | B170: Domicílios Rústicos | C170: Amapá | D170: 2207.2859 | E170: =D170/$D$215 -> 0.0031678065
A171: 2019 | B171: Domicílios Rústicos | C171: Região Metropolitana de Macapá (AP) | D171: 1240.3306 | E171: =D171/$D$215 -> 0.0017800718
A172: 2019 | B172: Domicílios Rústicos | C172: Tocantins | D172: 12479.46 | E172: =D172/$D$215 -> 0.017910011
A173: 2019 | B173: Domicílios Rústicos | C173: Nordeste | D173: 305664.8 | E173: =D173/$D$215 -> 0.43867762
... A215: 2019 | B215: Domicílios Rústicos | C215: Brasil | D215: 696786.87 | E215: =D215/$D$215 -> 1

Sheet Improvisados
A1: Ano | B1: DH | C1: Região | D1: Contagem | E1: % do total da componente
A2: 2016 | B2: Domicílios Improvisados | C2: Norte | D2: 104930 | E2: =D2/$D$55 -> 0.19558612
A3: 2016 | B3: Domicílios Improvisados | C3: Rondônia | D3: 14412 | E3: =D3/$D$55 -> 0.026863502
A4: 2016 | B4: Domicílios Improvisados | C4: Acre | D4: 1925 | E4: =D4/$D$55 -> 0.0035881377
A5: 2016 | B5: Domicílios Improvisados | C5: Amazonas | D5: 22216 | E5: =D5/$D$55 -> 0.041409905
A6: 2016 | B6: Domicílios Improvisados | C6: Região Metropolitana de Manaus (AM) | D6: 6531 | E6: =D6/$D$55 -> 0.012173573
A7: 2016 | B7: Domicílios Improvisados | C7: Roraima | D7: 1691 | E7: =D7/$D$55 -> 0.0031519693
A8: 2016 | B8: Domicílios Improvisados | C8: Pará | D8: 54079 | E8: =D8/$D$55 -> 0.10080151
A9: 2016 | B9: Domicílios Improvisados | C9: Região Metropolitana de Belém (PA) | D9: 9156 | E9: =D9/$D$55 -> 0.017066488
A10: 2016 | B10: Domicílios Improvisados | C10: Amapá | D10: 4184 | E10: =D10/$D$55 -> 0.0077988406
A11: 2016 | B11: Domicílios Improvisados | C11: Região Metropolitana de Macapá (AP) | D11: 2017 | E11: =D11/$D$55 -> 0.0037596227
A12: 2016 | B12: Domicílios Improvisados | C12: Tocantins | D12: 6423 | E12: =D12/$D$55 -> 0.011972264
A13: 2016 | B13: Domicílios Improvisados | C13: Nordeste | D13: 227918 | E13: =D13/$D$55 -> 0.42483178
... A55: 2016 | B55: Domicílios Improvisados | C55: Brasil | D55: 536490 | E55: =D55/$D$55 -> 1
A56: 2017 | B56: Domicílios Improvisados | C56: Norte | D56: 134436 | E56: =D56/$D$109 -> 0.19510992
A57: 2017 | B57: Domicílios Improvisados | C57: Rondônia | D57: 19269 | E57: =D57/$D$109 -> 0.027965522
A58: 2017 | B58: Domicílios Improvisados | C58: Acre | D58: 2389 | E58: =D58/$D$109 -> 0.0034672081
A59: 2017 | B59: Domicílios Improvisados | C59: Amazonas | D59: 30233 | E59: =D59/$D$109 -> 0.043877816
A60: 2017 | B60: Domicílios Improvisados | C60: Região Metropolitana de Manaus (AM) | D60: 10496 | E60: =D60/$D$109 -> 0.015233075
A61: 2017 | B61: Domicílios Improvisados | C61: Roraima | D61: 2206 | E61: =D61/$D$109 -> 0.0032016162
A62: 2017 | B62: Domicílios Improvisados | C62: Pará | D62: 66026 | E62: =D62/$D$109 -> 0.095824982
A63: 2017 | B63: Domicílios Improvisados | C63: Região Metropolitana de Belém (PA) | D63: 10777 | E63: =D63/$D$109 -> 0.015640897
A64: 2017 | B64: Domicílios Improvisados | C64: Amapá | D64: 6944 | E64: =D64/$D$109 -> 0.01007798
A65: 2017 | B65: Domicílios Improvisados | C65: Região Metropolitana de Macapá (AP) | D65: 3860 | E65: =D65/$D$109 -> 0.0056021027
A66: 2017 | B66: Domicílios Improvisados | C66: Tocantins | D66: 7369 | E66: =D66/$D$109 -> 0.010694791
A67: 2017 | B67: Domicílios Improvisados | C67: Nordeste | D67: 289853 | E67: =D67/$D$109 -> 0.42067002
... A109: 2017 | B109: Domicílios Improvisados | C109: Brasil | D109: 689027 | E109: =D109/$D$109 -> 1
A110: 2018 | B110: Domicílios Improvisados | C110: Norte | D110: 142414 | E110: 0.19991213
A111: 2018 | B111: Domicílios Improvisados | C111: Rondônia | D111: 21514 | E111: 0.030200047
A112: 2018 | B112: Domicílios Improvisados | C112: Acre | D112: 2933 | E112: 0.0041171673
A113: 2018 | B113: Domicílios Improvisados | C113: Amazonas | D113: 33660 | E113: 0.047249864
A114: 2018 | B114: Domicílios Improvisados | C114: Região Metropolitana de Manaus (AM) | D114: 13334 | E114: 0.01871746
A115: 2018 | B115: Domicílios Improvisados | C115: Roraima | D115: 2589 | E115: 0.003634281
A116: 2018 | B116: Domicílios Improvisados | C116: Pará | D116: 63461 | E116: 0.089082698
A117: 2018 | B117: Domicílios Improvisados | C117: Região Metropolitana de Belém (PA) | D117: 7783 | E117: 0.010925303
A118: 2018 | B118: Domicílios Improvisados | C118: Amapá | D118: 11433 | E118: 0.016048951
A119: 2018 | B119: Domicílios Improvisados | C119: Região Metropolitana de Macapá (AP) | D119: 7219 | E119: 0.010133594
A120: 2018 | B120: Domicílios Improvisados | C120: Tocantins | D120: 6824 | E120: 0.0095791169
A121: 2018 | B121: Domicílios Improvisados | C121: Nordeste | D121: 308110 | E121: 0.43250611
... A217: 2019 | B217: Domicílios Improvisados | C217: Brasil | D217: 785736 | E217: 1

Sheet Cômodos
A1: Ano | B1: DH | C1: Região | D1: Contagem | E1: % do total da componente
A2: 2016 | B2: Cômodos | C2: Norte | D2: 21794.728 | E2: =D2/$D$51 -> 0.15277124
A3: 2016 | B3: Cômodos | C3: Rondônia | D3: 399.41491 | E3: =D3/$D$51 -> 0.0027997189
A4: 2016 | B4: Cômodos | C4: Acre | D4: 2367.7462 | E4: =D4/$D$51 -> 0.016596836
A5: 2016 | B5: Cômodos | C5: Amazonas | D5: 5642.8193 | E5: =D5/$D$51 -> 0.039553625
A6: 2016 | B6: Cômodos | C6: Região Metropolitana de Manaus (AM) | D6: 4900.0602 | E6: =D6/$D$51 -> 0.034347218
A7: 2016 | B7: Cômodos | C7: Roraima | D7: 1786.5422 | E7: =D7/$D$51 -> 0.012522857
A8: 2016 | B8: Cômodos | C8: Pará | D8: 7691.7505 | E8: =D8/$D$51 -> 0.053915712
A9: 2016 | B9: Cômodos | C9: Amapá | D9: 1399.5458 | E9: =D9/$D$51 -> 0.0098101868
A10: 2016 | B10: Cômodos | C10: Região Metropolitana de Macapá (AP) | D10: 1399.5458 | E10: =D10/$D$51 -> 0.0098101868
A11: 2016 | B11: Cômodos | C11: Tocantins | D11: 2506.9095 | E11: =D11/$D$51 -> 0.017572308
A12: 2016 | B12: Cômodos | C12: Nordeste | D12: 30542.339 | E12: =D12/$D$51 -> 0.21408806
A13: 2016 | B13: Cômodos | C13: Maranhão | D13: 13944.445 | E13: =D13/$D$51 -> 0.097744289
... A51: 2016 | B51: Cômodos | C51: Brasil | D51: 142662.5 | E51: =D51/$D$51 -> 1
A52: 2017 | B52: Cômodos | C52: Norte | D52: 23538.848 | E52: =D52/$D$100 -> 0.19380728
A53: 2017 | B53: Cômodos | C53: Rondônia | D53: 190.84346 | E53: =D53/$D$100 -> 0.0015713111
A54: 2017 | B54: Cômodos | C54: Acre | D54: 2912.702 | E54: =D54/$D$100 -> 0.023981754
A55: 2017 | B55: Cômodos | C55: Amazonas | D55: 3057.0981 | E55: =D55/$D$100 -> 0.025170641
A56: 2017 | B56: Cômodos | C56: Região Metropolitana de Manaus (AM) | D56: 2200.3851 | E56: =D56/$D$100 -> 0.018116888
A57: 2017 | B57: Cômodos | C57: Roraima | D57: 2340.4518 | E57: =D57/$D$100 -> 0.019270128
A58: 2017 | B58: Cômodos | C58: Pará | D58: 8153.5096 | E58: =D58/$D$100 -> 0.067131984
A59: 2017 | B59: Cômodos | C59: Região Metropolitana de Belém (PA) | D59: 1038.7392 | E59: =D59/$D$100 -> 0.0085524669
A60: 2017 | B60: Cômodos | C60: Tocantins | D60: 6884.2427 | E60: =D60/$D$100 -> 0.056681466
A61: 2017 | B61: Cômodos | C61: Nordeste | D61: 21388.175 | E61: =D61/$D$100 -> 0.1760997
A62: 2017 | B62: Cômodos | C62: Maranhão | D62: 6936.3281 | E62: =D62/$D$100 -> 0.057110311
A63: 2017 | B63: Cômodos | C63: Região Metropolitana de Grande São Luís (MA) | D63: 6122.4753 | E63: =D63/$D$100 -> 0.050409448
... A100: 2017 | B100: Cômodos | C100: Brasil | D100: 121454.92 | E100: =D100/$D$100 -> 1
A101: 2018 | B101: Cômodos | C101: Norte | D101: 21003.605 | E101: =D101/$D$148 -> 0.20063122
A102: 2018 | B102: Cômodos | C102: Rondônia | D102: 332.47781 | E102: =D102/$D$148 -> 0.0031759037
A103: 2018 | B103: Cômodos | C103: Acre | D103: 2953.3092 | E103: =D103/$D$148 -> 0.028210682
A104: 2018 | B104: Cômodos | C104: Amazonas | D104: 3807.9117 | E104: =D104/$D$148 -> 0.03637404
A105: 2018 | B105: Cômodos | C105: Região Metropolitana de Manaus (AM) | D105: 3375.7326 | E105: =D105/$D$148 -> 0.032245767
A106: 2018 | B106: Cômodos | C106: Roraima | D106: 723.63131 | E106: =D106/$D$148 -> 0.0069122911
A107: 2018 | B107: Cômodos | C107: Pará | D107: 6618.9458 | E107: =D107/$D$148 -> 0.063225678
A108: 2018 | B108: Cômodos | C108: Região Metropolitana de Belém (PA) | D108: 4521.0101 | E108: =D108/$D$148 -> 0.043185719
A109: 2018 | B109: Cômodos | C109: Amapá | D109: 360.40861 | E109: =D109/$D$148 -> 0.0034427051
A110: 2018 | B110: Cômodos | C110: Região Metropolitana de Macapá (AP) | D110: 360.40861 | E110: =D110/$D$148 -> 0.0034427051
A111: 2018 | B111: Cômodos | C111: Tocantins | D111: 6206.921 | E111: =D111/$D$148 -> 0.059289923
A112: 2018 | B112: Cômodos | C112: Nordeste | D112: 23655.17 | E112: =D112/$D$148 -> 0.22595957
... A148: 2018 | B148: Cômodos | C148: Brasil | D148: 104687.62 | E148: =D148/$D$148 -> 1
A149: 2019 | B149: Cômodos | C149: Norte | D149: 15786.996 | E149: =D149/$D$192 -> 0.15452699
A150: 2019 | B150: Cômodos | C150: Acre | D150: 686.88231 | E150: =D150/$D$192 -> 0.0067233726
A151: 2019 | B151: Cômodos | C151: Amazonas | D151: 7350.2248 | E151: =D151/$D$192 -> 0.071945804
A152: 2019 | B152: Cômodos | C152: Região Metropolitana de Manaus (AM) | D152: 7350.2248 | E152: =D152/$D$192 -> 0.071945804
A153: 2019 | B153: Cômodos | C153: Roraima | D153: 824.94289 | E153: =D153/$D$192 -> 0.0080747435
A154: 2019 | B154: Cômodos | C154: Pará | D154: 5371.2917 | E154: =D154/$D$192 -> 0.052575521
A155: 2019 | B155: Cômodos | C155: Região Metropolitana de Belém (PA) | D155: 3318.2941 | E155: =D155/$D$192 -> 0.032480277
A156: 2019 | B156: Cômodos | C156: Amapá | D156: 1553.6543 | E156: =D156/$D$192 -> 0.01520755
A157: 2019 | B157: Cômodos | C157: Região Metropolitana de Macapá (AP) | D157: 1553.6543 | E157: =D157/$D$192 -> 0.01520755
A158: 2019 | B158: Cômodos | C158: Nordeste | D158: 27980.064 | E158: =D158/$D$192 -> 0.27387574
A159: 2019 | B159: Cômodos | C159: Maranhão | D159: 7029.6639 | E159: =D159/$D$192 -> 0.068808075
A160: 2019 | B160: Cômodos | C160: Região Metropolitana de Grande São Luís (MA) | D160: 4735.4899 | E160: =D160/$D$192 -> 0.046352137
... A192: 2019 | B192: Cômodos | C192: Brasil | D192: 102163.36 | E192: =D192/$D$192 -> 1

Sheet Unidades_Conviventes
A1: Ano | B1: DH | C1: Região | D1: Contagem | E1: % do total da componente
A2: 2016 | B2: Unidades Conviventes Deficit | C2: Norte | D2: 241774.94 | E2: =D2/$D$55 -> 0.16470604
A3: 2016 | B3: Unidades Conviventes Deficit | C3: Rondônia | D3: 11428.044 | E3: =D3/$D$55 -> 0.0077852067
A4: 2016 | B4: Unidades Conviventes Deficit | C4: Acre | D4: 9343.2893 | E4: =D4/$D$55 -> 0.0063649945
A5: 2016 | B5: Unidades Conviventes Deficit | C5: Amazonas | D5: 66732.713 | E5: =D5/$D$55 -> 0.045460795
A6: 2016 | B6: Unidades Conviventes Deficit | C6: Região Metropolitana de Manaus (AM) | D6: 42200.431 | E6: =D6/$D$55 -> 0.028748496
A7: 2016 | B7: Unidades Conviventes Deficit | C7: Roraima | D7: 7743.5423 | E7: =D7/$D$55 -> 0.0052751876
A8: 2016 | B8: Unidades Conviventes Deficit | C8: Pará | D8: 123585.81 | E8: =D8/$D$55 -> 0.08419123
A9: 2016 | B9: Unidades Conviventes Deficit | C9: Região Metropolitana de Belém (PA) | D9: 33772.502 | E9: =D9/$D$55 -> 0.023007078
A10: 2016 | B10: Unidades Conviventes Deficit | C10: Amapá | D10: 15783.667 | E10: =D10/$D$55 -> 0.010752418
A11: 2016 | B11: Unidades Conviventes Deficit | C11: Região Metropolitana de Macapá (AP) | D11: 12122.976 | E11: =D11/$D$55 -> 0.00825862
A12: 2016 | B12: Unidades Conviventes Deficit | C12: Tocantins | D12: 7157.8666 | E12: =D12/$D$55 -> 0.0048762037
A13: 2016 | B13: Unidades Conviventes Deficit | C13: Nordeste | D13: 450319.95 | E13: =D13/$D$55 -> 0.30677462
... A55: 2016 | B55: Unidades Conviventes Deficit | C55: Brasil | D55: 1467917.9 | E55: =D55/$D$55 -> 1
A56: 2017 | B56: Unidades Conviventes Deficit | C56: Norte | D56: 228464.23 | E56: =D56/$D$109 -> 0.15702206
A57: 2017 | B57: Unidades Conviventes Deficit | C57: Rondônia | D57: 11602.187 | E57: =D57/$D$109 -> 0.0079741114
A58: 2017 | B58: Unidades Conviventes Deficit | C58: Acre | D58: 9387.8638 | E58: =D58/$D$109 -> 0.0064522209
A59: 2017 | B59: Unidades Conviventes Deficit | C59: Amazonas | D59: 64452.878 | E59: =D59/$D$109 -> 0.044298065
A60: 2017 | B60: Unidades Conviventes Deficit | C60: Região Metropolitana de Manaus (AM) | D60: 38549.801 | E60: =D60/$D$109 -> 0.026495041
A61: 2017 | B61: Unidades Conviventes Deficit | C61: Roraima | D61: 6212.6939 | E61: =D61/$D$109 -> 0.0042699462
A62: 2017 | B62: Unidades Conviventes Deficit | C62: Pará | D62: 118386.93 | E62: =D62/$D$109 -> 0.081366609
A63: 2017 | B63: Unidades Conviventes Deficit | C63: Região Metropolitana de Belém (PA) | D63: 33075.879 | E63: =D63/$D$109 -> 0.022732848
A64: 2017 | B64: Unidades Conviventes Deficit | C64: Amapá | D64: 12136.513 | E64: =D64/$D$109 -> 0.0083413506
A65: 2017 | B65: Unidades Conviventes Deficit | C65: Região Metropolitana de Macapá (AP) | D65: 8137.8826 | E65: =D65/$D$109 -> 0.0055931165
A66: 2017 | B66: Unidades Conviventes Deficit | C66: Tocantins | D66: 6285.1617 | E66: =D66/$D$109 -> 0.0043197528
A67: 2017 | B67: Unidades Conviventes Deficit | C67: Nordeste | D67: 481960.05 | E67: =D67/$D$109 -> 0.33124817
... A109: 2017 | B109: Unidades Conviventes Deficit | C109: Brasil | D109: 1454981.8 | E109: =D109/$D$109 -> 1
A110: 2018 | B110: Unidades Conviventes Deficit | C110: Norte | D110: 228757.51 | E110: =D110/$D$163 -> 0.16958374
A111: 2018 | B111: Unidades Conviventes Deficit | C111: Rondônia | D111: 11243.846 | E111: =D111/$D$163 -> 0.0083353479
A112: 2018 | B112: Unidades Conviventes Deficit | C112: Acre | D112: 7882.31 | E112: =D112/$D$163 -> 0.0058433562
A113: 2018 | B113: Unidades Conviventes Deficit | C113: Amazonas | D113: 68607.083 | E113: =D113/$D$163 -> 0.05086017
A114: 2018 | B114: Unidades Conviventes Deficit | C114: Região Metropolitana de Manaus (AM) | D114: 35771.567 | E114: =D114/$D$163 -> 0.026518369
A115: 2018 | B115: Unidades Conviventes Deficit | C115: Roraima | D115: 6259.2964 | E115: =D115/$D$163 -> 0.0046401751
A116: 2018 | B116: Unidades Conviventes Deficit | C116: Pará | D116: 112857.44 | E116: =D116/$D$163 -> 0.083664083
A117: 2018 | B117: Unidades Conviventes Deficit | C117: Região Metropolitana de Belém (PA) | D117: 36948.621 | E117: =D117/$D$163 -> 0.027390949
A118: 2018 | B118: Unidades Conviventes Deficit | C118: Amapá | D118: 14414.348 | E118: =D118/$D$163 -> 0.010685722
A119: 2018 | B119: Unidades Conviventes Deficit | C119: Região Metropolitana de Macapá (AP) | D119: 10166.079 | E119: =D119/$D$163 -> 0.0075363717
A120: 2018 | B120: Unidades Conviventes Deficit | C120: Tocantins | D120: 7493.1851 | E120: =D120/$D$163 -> 0.005554888
A121: 2018 | B121: Unidades Conviventes Deficit | C121: Nordeste | D121: 455395.68 | E121: =D121/$D$163 -> 0.33759636
... A163: 2018 | B163: Unidades Conviventes Deficit | C163: Brasil | D163: 1348935.4 | E163: =D163/$D$163 -> 1
A164: 2019 | B164: Unidades Conviventes Deficit | C164: Norte | D164: 249027.6 | E164: =D164/$D$217 -> 0.19006823
A165: 2019 | B165: Unidades Conviventes Deficit | C165: Rondônia | D165: 9739.8717 | E165: =D165/$D$217 -> 0.0074338754
A166: 2019 | B166: Unidades Conviventes Deficit | C166: Acre | D166: 8574.3594 | E166: =D166/$D$217 -> 0.0065443079
A167: 2019 | B167: Unidades Conviventes Deficit | C167: Amazonas | D167: 60487.749 | E167: =D167/$D$217 -> 0.046166767
A168: 2019 | B168: Unidades Conviventes Deficit | C168: Região Metropolitana de Manaus (AM) | D168: 34046.526 | E168: =D168/$D$217 -> 0.025985726
A169: 2019 | B169: Unidades Conviventes Deficit | C169: Roraima | D169: 6085.4183 | E169: =D169/$D$217 -> 0.0046446445
A170: 2019 | B170: Unidades Conviventes Deficit | C170: Pará | D170: 135556.81 | E170: =D170/$D$217 -> 0.1034626
A171: 2019 | B171: Unidades Conviventes Deficit | C171: Região Metropolitana de Belém (PA) | D171: 40299.465 | E171: =D171/$D$217 -> 0.030758229
A172: 2019 | B172: Unidades Conviventes Deficit | C172: Amapá | D172: 18075.186 | E172: =D172/$D$217 -> 0.013795735
A173: 2019 | B173: Unidades Conviventes Deficit | C173: Região Metropolitana de Macapá (AP) | D173: 13837.197 | E173: =D173/$D$217 -> 0.010561124
A174: 2019 | B174: Unidades Conviventes Deficit | C174: Tocantins | D174: 10508.202 | E174: =D174/$D$217 -> 0.0080202974
A175: 2019 | B175: Unidades Conviventes Deficit | C175: Nordeste | D175: 439112.59 | E175: =D175/$D$217 -> 0.335149
... A217: 2019 | B217: Unidades Conviventes Deficit | C217: Brasil | D217: 1310201.1 | E217: =D217/$D$217 -> 1

Sheet Ônus
A1: Ano | B1: DH | C1: Região | D1: Contagem | E1: % do total da componente
A2: 2016 | B2: Ônus | C2: Norte | D2: 152928.28 | E2: =D2/$D$55 -> 0.053406625
A3: 2016 | B3: Ônus | C3: Rondônia | D3: 15707.545 | E3: =D3/$D$55 -> 0.0054854925
A4: 2016 | B4: Ônus | C4: Acre | D4: 5457.5512 | E4: =D4/$D$55 -> 0.0019059221
A5: 2016 | B5: Ônus | C5: Amazonas | D5: 50530.654 | E5: =D5/$D$55 -> 0.017646649
A6: 2016 | B6: Ônus | C6: Região Metropolitana de Manaus (AM) | D6: 45866.994 | E6: =D6/$D$55 -> 0.016017975
A7: 2016 | B7: Ônus | C7: Roraima | D7: 4654.2758 | E7: =D7/$D$55 -> 0.0016253969
A8: 2016 | B8: Ônus | C8: Pará | D8: 53400.492 | E8: =D8/$D$55 -> 0.018648873
A9: 2016 | B9: Ônus | C9: Região Metropolitana de Belém (PA) | D9: 13944.17 | E9: =D9/$D$55 -> 0.0048696753
A10: 2016 | B10: Ônus | C10: Amapá | D10: 6258.8749 | E10: =D10/$D$55 -> 0.0021857656
A11: 2016 | B11: Ônus | C11: Região Metropolitana de Macapá (AP) | D11: 5236.6833 | E11: =D11/$D$55 -> 0.0018287891
A12: 2016 | B12: Ônus | C12: Tocantins | D12: 16918.889 | E12: =D12/$D$55 -> 0.0059085263
A13: 2016 | B13: Ônus | C13: Nordeste | D13: 672885.01 | E13: =D13/$D$55 -> 0.23498935
... A55: 2016 | B55: Ônus | C55: Brasil | D55: 2863470.3 | E55: =D55/$D$55 -> 1
A56: 2017 | B56: Ônus | C56: Norte | D56: 141033.4 | E56: =D56/$D$109 -> 0.047076152
A57: 2017 | B57: Ônus | C57: Rondônia | D57: 13681.186 | E57: =D57/$D$109 -> 0.0045667028
A58: 2017 | B58: Ônus | C58: Acre | D58: 6167.1433 | E58: =D58/$D$109 -> 0.0020585576
A59: 2017 | B59: Ônus | C59: Amazonas | D59: 41616.546 | E59: =D59/$D$109 -> 0.013891368
A60: 2017 | B60: Ônus | C60: Região Metropolitana de Manaus (AM) | D60: 38864.927 | E60: =D60/$D$109 -> 0.012972893
A61: 2017 | B61: Ônus | C61: Roraima | D61: 6067.3187 | E61: =D61/$D$109 -> 0.0020252367
A62: 2017 | B62: Ônus | C62: Pará | D62: 49909.877 | E62: =D62/$D$109 -> 0.016659635
A63: 2017 | B63: Ônus | C63: Região Metropolitana de Belém (PA) | D63: 15573.559 | E63: =D63/$D$109 -> 0.0051983662
A64: 2017 | B64: Ônus | C64: Amapá | D64: 8143.0403 | E64: =D64/$D$109 -> 0.0027181009
A65: 2017 | B65: Ônus | C65: Região Metropolitana de Macapá (AP) | D65: 6958.1447 | E65: =D65/$D$109 -> 0.0023225894
A66: 2017 | B66: Ônus | C66: Tocantins | D66: 15448.284 | E66: =D66/$D$109 -> 0.00515655
A67: 2017 | B67: Ônus | C67: Nordeste | D67: 680362.77 | E67: =D67/$D$109 -> 0.22710125
... A109: 2017 | B109: Ônus | C109: Brasil | D109: 2995856.5 | E109: =D109/$D$109 -> 1
A110: 2018 | B110: Ônus | C110: Norte | D110: 154451.83 | E110: =D110/$D$163 -> 0.049997929
A111: 2018 | B111: Ônus | C111: Rondônia | D111: 16752.547 | E111: =D111/$D$163 -> 0.0054230023
A112: 2018 | B112: Ônus | C112: Acre | D112: 6329.0775 | E112: =D112/$D$163 -> 0.002048799
A113: 2018 | B113: Ônus | C113: Amazonas | D113: 45679.131 | E113: =D113/$D$163 -> 0.014786888
A114: 2018 | B114: Ônus | C114: Região Metropolitana de Manaus (AM) | D114: 42296.976 | E114: =D114/$D$163 -> 0.013692043
A115: 2018 | B115: Ônus | C115: Roraima | D115: 8326.3813 | E115: =D115/$D$163 -> 0.0026953505
A116: 2018 | B116: Ônus | C116: Pará | D116: 55635.779 | E116: =D116/$D$163 -> 0.018009976
A117: 2018 | B117: Ônus | C117: Região Metropolitana de Belém (PA) | D117: 23156.55 | E117: =D117/$D$163 -> 0.0074960558
A118: 2018 | B118: Ônus | C118: Amapá | D118: 5658.2021 | E118: =D118/$D$163 -> 0.0018316286
A119: 2018 | B119: Ônus | C119: Região Metropolitana de Macapá (AP) | D119: 4389.8961 | E119: =D119/$D$163 -> 0.0014210625
A120: 2018 | B120: Ônus | C120: Tocantins | D120: 16070.713 | E120: =D120/$D$163 -> 0.0052022846
A121: 2018 | B121: Ônus | C121: Nordeste | D121: 722661.75 | E121: =D121/$D$163 -> 0.23393436
... A163: 2018 | B163: Ônus | C163: Brasil | D163: 3089164.6 | E163: =D163/$D$163 -> 1
A164: 2019 | B164: Ônus | C164: Norte | D164: 155721.99 | E164: =D164/$D$217 -> 0.050722029
A165: 2019 | B165: Ônus | C165: Rondônia | D165: 16522.944 | E165: =D165/$D$217 -> 0.0053818813
A166: 2019 | B166: Ônus | C166: Acre | D166: 6945.6231 | E166: =D166/$D$217 -> 0.0022623401
A167: 2019 | B167: Ônus | C167: Amazonas | D167: 39027.178 | E167: =D167/$D$217 -> 0.012711999
A168: 2019 | B168: Ônus | C168: Região Metropolitana de Manaus (AM) | D168: 34429.747 | E168: =D168/$D$217 -> 0.011214516
A169: 2019 | B169: Ônus | C169: Roraima | D169: 10524.696 | E169: =D169/$D$217 -> 0.0034281218
A170: 2019 | B170: Ônus | C170: Pará | D170: 58364.036 | E170: =D170/$D$217 -> 0.019010433
A171: 2019 | B171: Ônus | C171: Região Metropolitana de Belém (PA) | D171: 23380.814 | E171: =D171/$D$217 -> 0.0076156384
A172: 2019 | B172: Ônus | C172: Amapá | D172: 6379.8081 | E172: =D172/$D$217 -> 0.0020780419
A173: 2019 | B173: Ônus | C173: Região Metropolitana de Macapá (AP) | D173: 5641.2401 | E173: =D173/$D$217 -> 0.0018374743
A174: 2019 | B174: Ônus | C174: Tocantins | D174: 17957.701 | E174: =D174/$D$217 -> 0.0058492128
A175: 2019 | B175: Ônus | C175: Nordeste | D175: 704709.4 | E175: =D175/$D$217 -> 0.22953914
... A217: 2019 | B217: Ônus | C217: Brasil | D217: 3070105.6 | E217: =D217/$D$217 -> 1

Sheet Total de domicílios
A1: Ano | B1: Especificação | C1: Total_PnadC | D1: Total_Improvisados | E1: Total_domicilios
A2: 2016 | B2: Norte | C2: 4877604.9 | D2: 104930 | E2: 4982534.9
A3: 2016 | B3: Rondônia | C3: 549177.21 | D3: 14412 | E3: 563589.21
A4: 2016 | B4: Acre | C4: 230197.43 | D4: 1925 | E4: 232122.43
A5: 2016 | B5: Amazonas | C5: 1003072.6 | D5: 22216 | E5: 1025288.6
A6: 2016 | B6: Região Metropolitana de Manaus (AM) | C6: 680198.92 | D6: 6531 | E6: 686729.92
A7: 2016 | B7: Roraima | C7: 132462.19 | D7: 1691 | E7: 134153.19
A8: 2016 | B8: Pará | C8: 2284786.3 | D8: 54079 | E8: 2338865.3
A9: 2016 | B9: Região Metropolitana de Belém (PA) | C9: 634470.68 | D9: 9156 | E9: 643626.68
A10: 2016 | B10: Amapá | C10: 205508.07 | D10: 4184 | E10: 209692.07
A11: 2016 | B11: Região Metropolitana de Macapá (AP) | C11: 153615.65 | D11: 2017 | E11: 155632.65
A12: 2016 | B12: Tocantins | C12: 472401.1 | D12: 6423 | E12: 478824.1
A13: 2016 | B13: Nordeste | C13: 17627671 | D13: 227918 | E13: 17855589
... A217: 2019 | B217: Brasil | C217: 70645769 | D217: 785736 | E217: 71431505
